Workbook

Sheet 記入見本（請求書）
A2: 【新書式の注意点】
A3: ・新しい書式の請求書は、明細書の件数が自動で請求書に反映されます。請求金額も自動で計算されます。
A4: 計算式が壊れると金額が合わなくなってしまうため、提出前に必ず請求金額を確認してください。
A5: ・計算式が壊れてしまった場合は、ホームページより再ダウンロードしてご使用ください。
A6: ・手書きで提出される場合は、【手書き用】の様式・明細書は通常のものをプリントしてご使用ください。
A7: ・月遅れで令和８年10月以前の請求がある場合は、これまでの請求書をご使用ください。
A9: 介護予防支援業務委託料請求書
A10: （介護職員等処遇改善加算請求分含む）
H11: ( | I11: 令和 | K11: 年 | M11: 月サービス利用分）
A12: ※ただし、令和8年10 月サービス分以降とする
R13: 令和 | T13: 年 | V13: 月 | X13: 日
A15: （あて先） | L15: 法人住所
A16: つくばみらい市地域包括支援センター 様 | L16: 法人名
L17: 居宅介護支援事業所名 | P17: 印
L18: 代表者職氏名
A20: 次のとおり請求します。
E23: 請求額 | J23: =V37 -> 0
P24: （金額の頭に￥を記入）
A25: ［請求内訳］
A26: 区 分 | O26: 件数 | R26: 契約単価 | V26: 金 額
A27: 介護予防サービス計画費 | O27: =介護予防支援業務委託料明細書!D46 -> 0 | R27: 4512 | V27: =IF(O27="","",(O27*R27)) -> 0
A28: 介護予防サービス計画費（初回） | O28: =介護予防支援業務委託料明細書!E46 -> 0 | R28: 7575 | V28: =IF(O28="","",(O28*R28)) -> 0
A29: 介護予防サービス計画費（委託連携） | O29: =介護予防支援業務委託料明細書!F46 -> 0 | R29: 7575 | V29: =IF(O29="","",(O29*R29)) -> 0
A30: 介護予防サービス計画費（初回＋委託連携） | O30: =介護予防支援業務委託料明細書!G46 -> 0 | R30: 10638 | V30: =IF(O30="","",(O30*R30)) -> 0
A31: 介護報酬・加算小計① | O31: =SUM(O27:Q30) -> 0 | R31: ― | V31: =SUM(V27:X30) -> 0
A32: 【処遇改善加算】介護予防サービス計画(更新) | O32: =O27 -> 0 | R32: 91 | V32: =IF(O32="","",(O32*R32)) -> 0
A33: 【処遇改善加算】介護予防サービス計画(初回) | O33: =O28 -> 0 | R33: 163 | V33: =IF(O33="","",(O33*R33)) -> 0
A34: 【処遇改善加算】介護予防サービス計画(委託連携) | O34: =O29 -> 0 | R34: 163 | V34: =IF(O34="","",(O34*R34)) -> 0
A35: 【処遇改善加算】介護予防サービス計画(初回+委託連携) | O35: =O30 -> 0 | R35: 224 | V35: =IF(O35="","",(O35*R35)) -> 0
A36: 処遇改善加算小計① | O36: =SUM(O32:Q35) -> 0 | R36: ― | V36: =SUM(V32:X35) -> 0
A37: 合計 | O37: =SUM(O31,O36) -> 0 | R37: ― | V37: =SUM(V31,V36) -> 0
E38: ※要支援者または基本チェックリスト該当者で介護予防ケアマネジメントの場合は、
E39: 介護予防ケアマネジメント業務委託料請求書にて請求してください。
E40: ※対象請求月の分は翌月５日までに請求してください。

Sheet 記入見本（請求明細書 )
B1: 介護予防支援業務委託料請求明細書
I2: 令和 年 月 日
E3: （令和 | F3: 8 | G3: 年 | H3: 10 | I3: 月サービス利用分）
B4: 居宅介護支援事業所
B5: No | C5: 氏名 | D5: 被保険者番号 | E5: 介護予防 支援費 | F5: 初回加算 | G5: 委託連携 加算 | H5: 初回加算 + 委託連携 加算 | I5: 住所地特例 （保険者名） | J5: 備考 （月遅れ理由等）
B6: 1 | C6: 鈴木 太郎 | D6: 0100012345 | E6: ◎ | I6: 守谷市
B7: 2 | C7: 田中 花子 | D7: 0200012345 | E7: ◎ | F7: ◎
B8: 3 | C8: 佐藤 二郎 | D8: 0300023456 | E8: ◎ | G8: ◎
B9: 4 | C9: 髙橋 三郎 | D9: 0400023456 | E9: ◎
B10: 5 | C10: 石川 四郎 | D10: 0500023456 | E10: ◎ | H10: ◎
B11: 6
B12: 7
B13: 8
B14: 9
B15: 10
B16: 11
B17: 12
B18: 13
B19: 14
B20: 15
B21: 16
B22: 17
... B45: 40
B46: 合計件数 | E46: =COUNTA(E6:E45) -> 5 | F46: =COUNTA(F6:F45) -> 1 | G46: =COUNTA(G6:G45) -> 1 | H46: =COUNTA(H6:H45) -> 1 | I46: =COUNTA(I6:I45) -> 1 | J46: =COUNTA(J6:J45) -> 0
B47: ※介護予防支援費及び加算それぞれについて，対象となるものに〇を記入してください。

Sheet 介護予防支援業務委託料請求書
A1: 介護予防支援業務委託料請求書
A2: （介護職員等処遇改善加算請求分含む）
H3: ( | I3: 令和 | K3: 年 | M3: 月サービス利用分）
A4: ※ただし、令和8年10 月サービス分以降とする
R5: 令和 | T5: 年 | V5: 月 | X5: 日
A7: （あて先） | L7: 法人住所
A8: つくばみらい市地域包括支援センター 様 | L8: 法人名
L9: 居宅介護支援事業所名 | P9: 印
L10: 代表者職氏名
A12: 次のとおり請求します。
E15: 請求額 | J15: =V29 -> 0
P16: （金額の頭に￥を記入）
A17: ［請求内訳］
A18: 区 分 | O18: 件数 | R18: 契約単価 | V18: 金 額
A19: 介護予防サービス計画費 | O19: =介護予防支援業務委託料明細書!D46 -> 0 | R19: 4512 | V19: =IF(O19="","",(O19*R19)) -> 0
A20: 介護予防サービス計画費（初回） | O20: =介護予防支援業務委託料明細書!E46 -> 0 | R20: 7575 | V20: =IF(O20="","",(O20*R20)) -> 0
A21: 介護予防サービス計画費（委託連携） | O21: =介護予防支援業務委託料明細書!F46 -> 0 | R21: 7575 | V21: =IF(O21="","",(O21*R21)) -> 0
A22: 介護予防サービス計画費（初回＋委託連携） | O22: =介護予防支援業務委託料明細書!G46 -> 0 | R22: 10638 | V22: =IF(O22="","",(O22*R22)) -> 0
A23: 介護報酬・加算小計① | O23: =SUM(O19:Q22) -> 0 | R23: ― | V23: =SUM(V19:X22) -> 0
A24: 【処遇改善加算】介護予防サービス計画(更新) | O24: =O19 -> 0 | R24: 91 | V24: =IF(O24="","",(O24*R24)) -> 0
A25: 【処遇改善加算】介護予防サービス計画(初回) | O25: =O20 -> 0 | R25: 163 | V25: =IF(O25="","",(O25*R25)) -> 0
A26: 【処遇改善加算】介護予防サービス計画(委託連携) | O26: =O21 -> 0 | R26: 163 | V26: =IF(O26="","",(O26*R26)) -> 0
A27: 【処遇改善加算】介護予防サービス計画(初回+委託連携) | O27: =O22 -> 0 | R27: 224 | V27: =IF(O27="","",(O27*R27)) -> 0
A28: 処遇改善加算小計① | O28: =SUM(O24:Q27) -> 0 | R28: ― | V28: =SUM(V24:X27) -> 0
A29: 合計 | O29: =SUM(O23,O28) -> 0 | R29: ― | V29: =SUM(V23,V28) -> 0
E30: ※要支援者または基本チェックリスト該当者で介護予防ケアマネジメントの場合は、
E31: 介護予防ケアマネジメント業務委託料請求書にて請求してください。
E32: ※対象請求月の分は翌月５日までに請求してください。

Sheet 介護予防支援業務委託料明細書
A1: 介護予防支援業務委託料請求明細書
H2: 令和 年 月 日
D3: （令和 | F3: 年 | H3: 月サービス利用分）
A4: 居宅介護支援事業所
A5: No | B5: 氏名 | C5: 被保険者番号 | D5: 介護予防 支援費 | E5: 初回加算 | F5: 委託連携 加算 | G5: 初回加算 + 委託連携 加算 | H5: 住所地特例 （保険者名） | I5: 備考 （月遅れ理由等）
A6: 1
A7: 2
A8: 3
A9: 4
A10: 5
A11: 6
A12: 7
A13: 8
A14: 9
A15: 10
A16: 11
A17: 12
... A45: 40
A46: 合計件数 | D46: =COUNTA(D6:D45) -> 0 | E46: =COUNTA(E6:E45) -> 0 | F46: =COUNTA(F6:F45) -> 0 | G46: =COUNTA(G6:G45) -> 0 | H46: =COUNTA(H6:H45) -> 0 | I46: =COUNTA(I6:I45) -> 0
A47: ※介護予防支援費及び加算それぞれについて，対象となるものに〇を記入してください。

Sheet 介護予防ケアマネジメント業務委託料請求書
A1: 介護予防ケアマネジメント業務委託料請求書
A2: （介護職員等処遇改善加算請求分含む）
H3: ( | I3: 令和 | K3: 年 | M3: 月サービス利用分）
A4: ※ただし、令和8年10 月サービス分以降とする
R5: 令和 | T5: 年 | V5: 月 | X5: 日
A7: （あて先） | L7: 法人住所
A8: つくばみらい市地域包括支援センター 様 | L8: 法人名
L9: 居宅介護支援事業所名 | P9: 印
L10: 代表者職氏名
A12: 次のとおり請求します。
E15: 請求額 | J15: =V29 -> 0
P16: （金額の頭に￥を記入）
A17: ［請求内訳］
A18: 区 分 | O18: 件数 | R18: 契約単価 | V18: 金 額
A19: 介護予防ケアマネジメントＡ | O19: ='介護予防ケアマネジメント業務委託料明細書 '!D46 -> 0 | R19: 4512 | V19: =IF(O19="","",(O19*R19)) -> 0
A20: 介護予防ケアマネジメントＡ（初回） | O20: ='介護予防ケアマネジメント業務委託料明細書 '!E46 -> 0 | R20: 7575 | V20: =IF(O20="","",(O20*R20)) -> 0
A21: 介護予防ケアマネジメントＡ（委託連携） | O21: ='介護予防ケアマネジメント業務委託料明細書 '!F46 -> 0 | R21: 7575 | V21: =IF(O21="","",(O21*R21)) -> 0
A22: 介護予防ケアマネジメントＡ（初回＋委託連携） | O22: ='介護予防ケアマネジメント業務委託料明細書 '!G46 -> 0 | R22: 10638 | V22: =IF(O22="","",(O22*R22)) -> 0
A23: 介護報酬・加算小計① | O23: =SUM(O19:Q22) -> 0 | R23: ― | V23: =SUM(V19:X22) -> 0
A24: 【処遇改善加算】介護予防サービス計画(更新) | O24: =O19 -> 0 | R24: 91 | V24: =IF(O24="","",(O24*R24)) -> 0
A25: 【処遇改善加算】介護予防サービス計画(初回) | O25: =O20 -> 0 | R25: 163 | V25: =IF(O25="","",(O25*R25)) -> 0
A26: 【処遇改善加算】介護予防サービス計画(委託連携) | O26: =O21 -> 0 | R26: 163 | V26: =IF(O26="","",(O26*R26)) -> 0
A27: 【処遇改善加算】介護予防サービス計画(初回+委託連携) | O27: =O22 -> 0 | R27: 224 | V27: =IF(O27="","",(O27*R27)) -> 0
A28: 処遇改善加算小計① | O28: =SUM(O24:Q27) -> 0 | R28: ― | V28: =SUM(V24:X27) -> 0
A29: 合計 | O29: =SUM(O23,O28) -> 0 | R29: ― | V29: =SUM(V23,V28) -> 0
F30: ※対象請求月の分は翌月５日までに請求してください。

Sheet 介護予防ケアマネジメント業務委託料明細書 
A1: 介護予防ケアマネジメント業務委託料請求明細書
H2: 令和 年 月 日
D3: （令和 | F3: 年 | H3: 月サービス利用分）
A4: 居宅介護支援事業所
A5: No | B5: 氏名 | C5: 被保険者番号 | D5: 介護予防 支援費 | E5: 初回加算 | F5: 委託連携 加算 | G5: 初回加算 + 委託連携 加算 | H5: 住所地特例 （保険者名） | I5: 備考 （月遅れ理由等）
A6: 1
A7: 2
A8: 3
A9: 4
A10: 5
A11: 6
A12: 7
A13: 8
A14: 9
A15: 10
A16: 11
A17: 12
... A45: 40
A46: 合計件数 | D46: =COUNTA(D6:D45) -> 0 | E46: =COUNTA(E6:E45) -> 0 | F46: =COUNTA(F6:F45) -> 0 | G46: =COUNTA(G6:G45) -> 0 | H46: =COUNTA(H6:H45) -> 0 | I46: =COUNTA(I6:I45) -> 0
A47: ※介護予防支援費及び加算それぞれについて，対象となるものに〇を記入してください。

Sheet 【手書き用】介護予防支援委託料請求書
A1: 介護予防支援業務委託料請求書
A2: （介護職員等処遇改善加算請求分含む）
H3: ( | I3: 令和 | K3: 年 | M3: 月サービス利用分）
A4: ※ただし、令和8年10 月サービス分以降とする
R5: 令和 | T5: 年 | V5: 月 | X5: 日
A7: （あて先） | L7: 法人住所
A8: つくばみらい市地域包括支援センター 様 | L8: 法人名
L9: 居宅介護支援事業所名 | P9: 印
L10: 代表者職氏名
A12: 次のとおり請求します。
E15: 請求額
P16: （金額の頭に￥を記入）
A17: ［請求内訳］
A18: 区 分 | O18: 件数 | R18: 契約単価 | U18: 金 額
A19: 介護予防サービス計画費 | R19: 4512 | U19: =IF(O19="","",(O19*R19))
A20: 介護予防サービス計画費（初回） | R20: 7575 | U20: =IF(O20="","",(O20*R20))
A21: 介護予防サービス計画費（委託連携） | R21: 7575 | U21: =IF(O21="","",(O21*R21))
A22: 介護予防サービス計画費（初回＋委託連携） | R22: 10638 | U22: =IF(O22="","",(O22*R22))
A23: 介護報酬・加算小計① | R23: ― | U23: 円
A24: 【処遇改善加算】介護予防サービス計画(更新) | R24: 91 | U24: =IF(O24="","",(O24*R24))
A25: 【処遇改善加算】介護予防サービス計画(初回) | R25: 163 | U25: =IF(O25="","",(O25*R25))
A26: 【処遇改善加算】介護予防サービス計画(委託連携) | R26: 163 | U26: =IF(O26="","",(O26*R26))
A27: 【処遇改善加算】介護予防サービス計画(初回+委託連携) | R27: 224 | U27: =IF(O27="","",(O27*R27))
A28: 処遇改善加算小計① | R28: ― | U28: 円
A29: 合計 | R29: ― | U29: 円
F30: ※要支援者または基本チェックリスト該当者で介護予防ケアマネジメントの場合は、
F31: 介護予防ケアマネジメント業務委託料請求書にて請求してください。
F32: ※対象請求月の分は翌月５日までに請求してください。

Sheet 【手書き用】介護予防ケアマネジメント委託料請求書
A1: 介護予防ケアマネジメント業務委託料請求書
A2: （介護職員等処遇改善加算請求分含む）
H3: ( | I3: 令和 | K3: 年 | M3: 月サービス利用分）
A4: ※ただし、令和8年10 月サービス分以降とする
R5: 令和 | T5: 年 | V5: 月 | X5: 日
A7: （あて先） | L7: 法人住所
A8: つくばみらい市地域包括支援センター 様 | L8: 法人名
L9: 居宅介護支援事業所名 | P9: 印
L10: 代表者職氏名
A12: 次のとおり請求します。
E15: 請求額
P16: （金額の頭に￥を記入）
A17: ［請求内訳］
A18: 区 分 | O18: 件数 | R18: 契約単価 | U18: 金 額
A19: 介護予防ケアマネジメントＡ | R19: 4512 | U19: =IF(O19="","",(O19*R19))
A20: 介護予防ケアマネジメントＡ（初回） | R20: 7575 | U20: =IF(O20="","",(O20*R20))
A21: 介護予防ケアマネジメントＡ（委託連携） | R21: 7575 | U21: =IF(O21="","",(O21*R21))
A22: 介護予防ケアマネジメントＡ（初回＋委託連携） | R22: 10638 | U22: =IF(O22="","",(O22*R22))
A23: 介護報酬・加算小計① | R23: ― | U23: 円
A24: 【処遇改善加算】介護予防サービス計画(更新) | R24: 91 | U24: =IF(O24="","",(O24*R24))
A25: 【処遇改善加算】介護予防サービス計画(初回) | R25: 163 | U25: =IF(O25="","",(O25*R25))
A26: 【処遇改善加算】介護予防サービス計画(委託連携) | R26: 163 | U26: =IF(O26="","",(O26*R26))
A27: 【処遇改善加算】介護予防サービス計画(初回+委託連携) | R27: 224 | U27: =IF(O27="","",(O27*R27))
A28: 処遇改善加算小計① | R28: ― | U28: 円
A29: 合計 | R29: ― | U29: 円
F30: ※対象請求月の分は翌月５日までに請求してください。
